BEGIN:VCALENDAR
VERSION:2.0
PRODID:-//7th District of the Federated Garden Clubs of NYS, Inc. - ECPv6.15.20//NONSGML v1.0//EN
CALSCALE:GREGORIAN
METHOD:PUBLISH
X-WR-CALNAME:7th District of the Federated Garden Clubs of NYS, Inc.
X-ORIGINAL-URL:https://7thdistrictfgcnys.org
X-WR-CALDESC:Events for 7th District of the Federated Garden Clubs of NYS, Inc.
REFRESH-INTERVAL;VALUE=DURATION:PT1H
X-Robots-Tag:noindex
X-PUBLISHED-TTL:PT1H
BEGIN:VTIMEZONE
TZID:America/New_York
BEGIN:DAYLIGHT
TZOFFSETFROM:-0500
TZOFFSETTO:-0400
TZNAME:EDT
DTSTART:20240310T070000
END:DAYLIGHT
BEGIN:STANDARD
TZOFFSETFROM:-0400
TZOFFSETTO:-0500
TZNAME:EST
DTSTART:20241103T060000
END:STANDARD
BEGIN:DAYLIGHT
TZOFFSETFROM:-0500
TZOFFSETTO:-0400
TZNAME:EDT
DTSTART:20250309T070000
END:DAYLIGHT
BEGIN:STANDARD
TZOFFSETFROM:-0400
TZOFFSETTO:-0500
TZNAME:EST
DTSTART:20251102T060000
END:STANDARD
BEGIN:DAYLIGHT
TZOFFSETFROM:-0500
TZOFFSETTO:-0400
TZNAME:EDT
DTSTART:20260308T070000
END:DAYLIGHT
BEGIN:STANDARD
TZOFFSETFROM:-0400
TZOFFSETTO:-0500
TZNAME:EST
DTSTART:20261101T060000
END:STANDARD
BEGIN:DAYLIGHT
TZOFFSETFROM:-0500
TZOFFSETTO:-0400
TZNAME:EDT
DTSTART:20270314T070000
END:DAYLIGHT
BEGIN:STANDARD
TZOFFSETFROM:-0400
TZOFFSETTO:-0500
TZNAME:EST
DTSTART:20271107T060000
END:STANDARD
END:VTIMEZONE
BEGIN:VEVENT
DTSTART;TZID=America/New_York:20250925T080000
DTEND;TZID=America/New_York:20260101T170000
DTSTAMP:20260423T175555
CREATED:20250925T142541Z
LAST-MODIFIED:20250925T142647Z
UID:896-1758787200-1767286800@7thdistrictfgcnys.org
SUMMARY:Youth Contests - Information
DESCRIPTION:Youth Contests 2025-26
URL:https://7thdistrictfgcnys.org/event/youth-contests-information/
END:VEVENT
BEGIN:VEVENT
DTSTART;TZID=America/New_York:20251023T000000
DTEND;TZID=America/New_York:20260201T235959
DTSTAMP:20260423T175555
CREATED:20251023T143530Z
LAST-MODIFIED:20251023T143530Z
UID:903-1761177600-1769990399@7thdistrictfgcnys.org
SUMMARY:Civic Beautification Grants - Information
DESCRIPTION:CIVIC BEAUTIFICATION GRANTS (2)
URL:https://7thdistrictfgcnys.org/event/civic-beautification-grants-information/
END:VEVENT
BEGIN:VEVENT
DTSTART;TZID=America/New_York:20251105T093000
DTEND;TZID=America/New_York:20251105T140000
DTSTAMP:20260423T175555
CREATED:20250515T230002Z
LAST-MODIFIED:20250516T004724Z
UID:598-1762335000-1762351200@7thdistrictfgcnys.org
SUMMARY:7th District Semi-Annual Meeting
DESCRIPTION:Coffee 9:30 am\nMeeting 10:00 am\nLunch/Speaker 12:00 pm
URL:https://7thdistrictfgcnys.org/event/7th-district-semi-annual-meeting/
LOCATION:Webster Golf Club\, 449 Salt Road\, Webster\, NY\, 14580\, United States
CATEGORIES:Members Council
END:VEVENT
BEGIN:VEVENT
DTSTART;TZID=America/New_York:20251106T080000
DTEND;TZID=America/New_York:20251106T170000
DTSTAMP:20260423T175555
CREATED:20251106T161423Z
LAST-MODIFIED:20251106T161423Z
UID:911-1762416000-1762448400@7thdistrictfgcnys.org
SUMMARY:District Directory - as of 11/2025
DESCRIPTION:District_Directory as of 11/5/2025
URL:https://7thdistrictfgcnys.org/event/district-directory-as-of-11-2025/
END:VEVENT
BEGIN:VEVENT
DTSTART;TZID=America/New_York:20251107T080000
DTEND;TZID=America/New_York:20251107T170000
DTSTAMP:20260423T175555
CREATED:20251107T143238Z
LAST-MODIFIED:20251107T143238Z
UID:916-1762502400-1762534800@7thdistrictfgcnys.org
SUMMARY:District Directory (As of 11/7/2025)
DESCRIPTION:District_Directory_25-27_Contents
URL:https://7thdistrictfgcnys.org/event/district-directory-as-of-11-7-2025/
END:VEVENT
BEGIN:VEVENT
DTSTART;TZID=America/New_York:20251111T080000
DTEND;TZID=America/New_York:20251111T170000
DTSTAMP:20260423T175555
CREATED:20251111T153102Z
LAST-MODIFIED:20251111T153102Z
UID:921-1762848000-1762880400@7thdistrictfgcnys.org
SUMMARY:MINUTES OF 11/5/25 SEMI-ANNUAL MEETING
DESCRIPTION:
URL:https://7thdistrictfgcnys.org/event/minutes-of-11-5-25-semi-annual-meeting/
END:VEVENT
BEGIN:VEVENT
DTSTART;TZID=America/New_York:20251113T080000
DTEND;TZID=America/New_York:20251113T170000
DTSTAMP:20260423T175555
CREATED:20251113T143925Z
LAST-MODIFIED:20251113T143925Z
UID:926-1763020800-1763053200@7thdistrictfgcnys.org
SUMMARY:Book Of Recognition - List of Clubs/Members
DESCRIPTION:CLUB Members LIST 25
URL:https://7thdistrictfgcnys.org/event/book-of-recognition-list-of-clubs-members/
END:VEVENT
BEGIN:VEVENT
DTSTART;TZID=America/New_York:20251117T080000
DTEND;TZID=America/New_York:20251117T170000
DTSTAMP:20260423T175555
CREATED:20251117T150429Z
LAST-MODIFIED:20251117T150429Z
UID:930-1763366400-1763398800@7thdistrictfgcnys.org
SUMMARY:Book of Recognition - List of Recipients (11/17/25)
DESCRIPTION:CLUB Members LIST 25a
URL:https://7thdistrictfgcnys.org/event/book-of-recognition-list-of-recipients-11-17-25/
END:VEVENT
END:VCALENDAR