BEGIN:VCALENDAR
VERSION:2.0
PRODID:-//7th District of the Federated Garden Clubs of NYS, Inc. - ECPv6.15.20//NONSGML v1.0//EN
CALSCALE:GREGORIAN
METHOD:PUBLISH
X-WR-CALNAME:7th District of the Federated Garden Clubs of NYS, Inc.
X-ORIGINAL-URL:https://7thdistrictfgcnys.org
X-WR-CALDESC:Events for 7th District of the Federated Garden Clubs of NYS, Inc.
REFRESH-INTERVAL;VALUE=DURATION:PT1H
X-Robots-Tag:noindex
X-PUBLISHED-TTL:PT1H
BEGIN:VTIMEZONE
TZID:America/New_York
BEGIN:DAYLIGHT
TZOFFSETFROM:-0500
TZOFFSETTO:-0400
TZNAME:EDT
DTSTART:20240310T070000
END:DAYLIGHT
BEGIN:STANDARD
TZOFFSETFROM:-0400
TZOFFSETTO:-0500
TZNAME:EST
DTSTART:20241103T060000
END:STANDARD
BEGIN:DAYLIGHT
TZOFFSETFROM:-0500
TZOFFSETTO:-0400
TZNAME:EDT
DTSTART:20250309T070000
END:DAYLIGHT
BEGIN:STANDARD
TZOFFSETFROM:-0400
TZOFFSETTO:-0500
TZNAME:EST
DTSTART:20251102T060000
END:STANDARD
BEGIN:DAYLIGHT
TZOFFSETFROM:-0500
TZOFFSETTO:-0400
TZNAME:EDT
DTSTART:20260308T070000
END:DAYLIGHT
BEGIN:STANDARD
TZOFFSETFROM:-0400
TZOFFSETTO:-0500
TZNAME:EST
DTSTART:20261101T060000
END:STANDARD
BEGIN:DAYLIGHT
TZOFFSETFROM:-0500
TZOFFSETTO:-0400
TZNAME:EDT
DTSTART:20270314T070000
END:DAYLIGHT
BEGIN:STANDARD
TZOFFSETFROM:-0400
TZOFFSETTO:-0500
TZNAME:EST
DTSTART:20271107T060000
END:STANDARD
END:VTIMEZONE
BEGIN:VEVENT
DTSTART;TZID=America/New_York:20251020T000000
DTEND;TZID=America/New_York:20251021T235959
DTSTAMP:20260423T182617
CREATED:20250515T225856Z
LAST-MODIFIED:20250516T004724Z
UID:595-1760918400-1761091199@7thdistrictfgcnys.org
SUMMARY:CAR-SGC Conference
DESCRIPTION:
URL:https://7thdistrictfgcnys.org/event/car-sgc-conference/
LOCATION:Hyatt Regency Chesapeake Bay\, 100 Heron Blvd US-50\, Cambridge\, MD\, 21613\, United States
CATEGORIES:Members Council
END:VEVENT
BEGIN:VEVENT
DTSTART;TZID=America/New_York:20251001T093000
DTEND;TZID=America/New_York:20251001T120000
DTSTAMP:20260423T182617
CREATED:20250515T230339Z
LAST-MODIFIED:20250528T130924Z
UID:602-1759311000-1759320000@7thdistrictfgcnys.org
SUMMARY:Members Council Meeting
DESCRIPTION:Coffee – 9:30 am\nMeeting – 10:00 am
URL:https://7thdistrictfgcnys.org/event/members-council-meeting-q-a-session-10-01-25/
CATEGORIES:Members Council
END:VEVENT
BEGIN:VEVENT
DTSTART;TZID=America/New_York:20250925T080000
DTEND;TZID=America/New_York:20260101T170000
DTSTAMP:20260423T182617
CREATED:20250925T142541Z
LAST-MODIFIED:20250925T142647Z
UID:896-1758787200-1767286800@7thdistrictfgcnys.org
SUMMARY:Youth Contests - Information
DESCRIPTION:Youth Contests 2025-26
URL:https://7thdistrictfgcnys.org/event/youth-contests-information/
END:VEVENT
BEGIN:VEVENT
DTSTART;TZID=America/New_York:20250903T113000
DTEND;TZID=America/New_York:20250903T143000
DTSTAMP:20260423T182617
CREATED:20250725T143119Z
LAST-MODIFIED:20250725T143119Z
UID:888-1756899000-1756909800@7thdistrictfgcnys.org
SUMMARY:7th District Annual September Meet & Greet Luncheon
DESCRIPTION:
URL:https://7thdistrictfgcnys.org/event/7th-district-annual-september-meet-greet-luncheon/
LOCATION:Shadow Lake Golf Club\, 1850 Five Mile Line Road\, Penfield\, NY\, 14526\, United States
END:VEVENT
BEGIN:VEVENT
DTSTART;TZID=America/New_York:20250903T111500
DTEND;TZID=America/New_York:20250903T140000
DTSTAMP:20260423T182617
CREATED:20250515T225533Z
LAST-MODIFIED:20250612T150211Z
UID:590-1756898100-1756908000@7thdistrictfgcnys.org
SUMMARY:Meet and Greet
DESCRIPTION:Doors open at 11:15 am\nLunch at 12:00 pm \nSeptember Flyer  \n7th District Annual Meet and Greet\nLuncheon\nWEDNESDAY\, SEPTEMBER 3\, 2025\nWhere: 1850 Five Mile Line Road\,\nPenfield\, NY 14526 \n\nWhen: Arrival: 11:30 Luncheon served at 12:00 noon\nCost: $35 \n\nMenu Choices\n• Chicken Caesar Salad- Grilled Chicken\, Crisp Romaine\, Asiago\, Croutons & House Caesar\nDressing\n• Classic Reuban- Sliced Corned Beef\, Sauerkraut\, Swiss\, Rye\, 1000 Island Dressing\n• Cowboy Chicken Sandwich- Marinated Grilled Breast\, Cheddar Cheese\, Bacon\, Crispy\nOnion Ring\, BBQ Sauce\, Lettuce\, Tomato\, Onion\, Brioche Bun\n• Strawberry Asparagus Salad- Spring Greens\, Asparagus\, Sliced Strawberries\, Crumbly\nBleu Cheese\, Candied Pecans\, Maple Balsamic Dressing\nIncluded in the menu price is a beverage (coffee\, tea\, iced tea) Dessert (Warm Apple\nCrisp served with Vanilla Ice Cream) and Gratuity.\nExtra Cost: Cash Bar \n\nMake your check payable to your Garden Club and give to your club treasurer.\nClub Treasurers: Please send one check to Sharon Greaves\, 49 Couchman Ave.\nRochester\, NY 14617. Payable to 7th District Federated Garden Clubs NYS.\nInclude a list of all names of members attending and their individual menu\nchoice. Sharon needs this information for the waitstaff at Shadow Lake. \n\nRESERVATIONS MUST BE RECEIVED BY August 27\, 2025 \n\nShadow Lake Reservation Form\nName ______________________________________________\nGarden Club Name_____________________________________\nMenu Choice:\nChicken Caesar_________Classic Reuben_________Cowboy Chicken________Strawberry Aspargus Salad_________
URL:https://7thdistrictfgcnys.org/event/meet-and-greet/
LOCATION:Shadow Lake Golf Club\, 1850 Five Mile Line Road\, Penfield\, NY\, 14526\, United States
CATEGORIES:Members Council
END:VEVENT
BEGIN:VEVENT
DTSTART;TZID=America/New_York:20250823T130000
DTEND;TZID=America/New_York:20250823T160000
DTSTAMP:20260423T182617
CREATED:20250509T130325Z
LAST-MODIFIED:20250509T130439Z
UID:283-1755954000-1755964800@7thdistrictfgcnys.org
SUMMARY:"Color My World" Horticulture Specialty Flower Show
DESCRIPTION:
URL:https://7thdistrictfgcnys.org/event/7th-district-judges-council-business-meeting-3/
LOCATION:Casey Park\, 6551 Knickerbocker Road\, Ontario\, NY\, 14519\, United States
CATEGORIES:Judges Council
END:VEVENT
BEGIN:VEVENT
DTSTART;TZID=America/New_York:20250804T000000
DTEND;TZID=America/New_York:20250804T235959
DTSTAMP:20260423T182617
CREATED:20250509T130132Z
LAST-MODIFIED:20250509T131023Z
UID:281-1754265600-1754351999@7thdistrictfgcnys.org
SUMMARY:NO JUDGES COUNCIL MEETING
DESCRIPTION:
URL:https://7thdistrictfgcnys.org/event/no-judges-council-meeting/
CATEGORIES:Judges Council
END:VEVENT
BEGIN:VEVENT
DTSTART;TZID=America/New_York:20250719T000000
DTEND;TZID=America/New_York:20250719T235959
DTSTAMP:20260423T182617
CREATED:20250515T225337Z
LAST-MODIFIED:20250516T004724Z
UID:588-1752883200-1752969599@7thdistrictfgcnys.org
SUMMARY:Summer Fun on the Porch and in the Garden
DESCRIPTION:7th District Fundraiser \nPerinton\, NY
URL:https://7thdistrictfgcnys.org/event/summer-fun-on-the-porch-and-in-the-garden/
CATEGORIES:Members Council
END:VEVENT
BEGIN:VEVENT
DTSTART;TZID=America/New_York:20250707T094500
DTEND;TZID=America/New_York:20250707T094500
DTSTAMP:20260423T182617
CREATED:20250509T130032Z
LAST-MODIFIED:20250509T130039Z
UID:278-1751881500-1751881500@7thdistrictfgcnys.org
SUMMARY:7th District Judges Council Business Meeting
DESCRIPTION:Bring a horticulture collection. \nHosted by: \nLiza Borton\nBarb Veomett \nLunch TBD
URL:https://7thdistrictfgcnys.org/event/7th-district-judges-council-business-meeting-2/
LOCATION:Home of Sarah Dobbs\, 3271 NY Rte. 21 South\, Canandaigua\, NY\, 14424\, United States
CATEGORIES:Judges Council
END:VEVENT
BEGIN:VEVENT
DTSTART;TZID=America/New_York:20250618T000000
DTEND;TZID=America/New_York:20250618T235959
DTSTAMP:20260423T182617
CREATED:20250516T004950Z
LAST-MODIFIED:20250516T005336Z
UID:614-1750204800-1750291199@7thdistrictfgcnys.org
SUMMARY:Summer Board Picnic
DESCRIPTION:Tour of Shadow Pines Property
URL:https://7thdistrictfgcnys.org/event/summer-board-picnic/
LOCATION:Shadow Pines\, 600 Whalen Rd\, Penfield\, NY\, 14526\, United States
CATEGORIES:Board Committee
END:VEVENT
BEGIN:VEVENT
DTSTART;TZID=America/New_York:20250611T093000
DTEND;TZID=America/New_York:20250611T120000
DTSTAMP:20260423T182617
CREATED:20250515T225237Z
LAST-MODIFIED:20250528T131017Z
UID:585-1749634200-1749643200@7thdistrictfgcnys.org
SUMMARY:Members Council Meeting
DESCRIPTION:Coffee – 9:30 am\nMeeting – 10:00 am
URL:https://7thdistrictfgcnys.org/event/members-council-meeting-06-11-25/
LOCATION:Town of Victor Parks and Recreation Center\, 7891 Lehigh Crossing\, Victor\, NY\, 14564\, United States
CATEGORIES:Members Council
END:VEVENT
BEGIN:VEVENT
DTSTART;TZID=America/New_York:20250609T094500
DTEND;TZID=America/New_York:20250609T094500
DTSTAMP:20260423T182617
CREATED:20250509T125531Z
LAST-MODIFIED:20250509T125603Z
UID:275-1749462300-1749462300@7thdistrictfgcnys.org
SUMMARY:7th District Judges Council Business Meeting
DESCRIPTION:Bring Peony specimens or design using Peonies. \nHosted by: \nSarah Dobbs\nCandi Smith
URL:https://7thdistrictfgcnys.org/event/7th-district-judges-council-business-meeting/
LOCATION:Ontario Volunteer Emergency Squad\, 6132 Furnace Road\, Ontario\, NY\, 14519\, United States
CATEGORIES:Judges Council
END:VEVENT
BEGIN:VEVENT
DTSTART;TZID=America/New_York:20250601T000000
DTEND;TZID=America/New_York:20250607T235959
DTSTAMP:20260423T182617
CREATED:20250515T225014Z
LAST-MODIFIED:20250516T004724Z
UID:583-1748736000-1749340799@7thdistrictfgcnys.org
SUMMARY:National Garden Week
DESCRIPTION:
URL:https://7thdistrictfgcnys.org/event/national-garden-week/
CATEGORIES:Members Council
END:VEVENT
BEGIN:VEVENT
DTSTART;TZID=America/New_York:20250601T000000
DTEND;TZID=America/New_York:20250603T235959
DTSTAMP:20260423T182617
CREATED:20250502T203226Z
LAST-MODIFIED:20250528T130813Z
UID:54-1748736000-1748995199@7thdistrictfgcnys.org
SUMMARY:FGCNYS Annual Convention
DESCRIPTION:
URL:https://7thdistrictfgcnys.org/event/fgcnys-annual-convention/
LOCATION:Crowne Plaza Albany\, The Desmond Hotel\, 660 Shaker Road\, Albany\, NY\, 12211\, United States
CATEGORIES:Members Council
END:VEVENT
END:VCALENDAR