BEGIN:VCALENDAR
VERSION:2.0
PRODID:-//7th District of the Federated Garden Clubs of NYS, Inc. - ECPv6.15.20//NONSGML v1.0//EN
CALSCALE:GREGORIAN
METHOD:PUBLISH
X-ORIGINAL-URL:https://7thdistrictfgcnys.org
X-WR-CALDESC:Events for 7th District of the Federated Garden Clubs of NYS, Inc.
REFRESH-INTERVAL;VALUE=DURATION:PT1H
X-Robots-Tag:noindex
X-PUBLISHED-TTL:PT1H
BEGIN:VTIMEZONE
TZID:America/New_York
BEGIN:DAYLIGHT
TZOFFSETFROM:-0500
TZOFFSETTO:-0400
TZNAME:EDT
DTSTART:20240310T070000
END:DAYLIGHT
BEGIN:STANDARD
TZOFFSETFROM:-0400
TZOFFSETTO:-0500
TZNAME:EST
DTSTART:20241103T060000
END:STANDARD
BEGIN:DAYLIGHT
TZOFFSETFROM:-0500
TZOFFSETTO:-0400
TZNAME:EDT
DTSTART:20250309T070000
END:DAYLIGHT
BEGIN:STANDARD
TZOFFSETFROM:-0400
TZOFFSETTO:-0500
TZNAME:EST
DTSTART:20251102T060000
END:STANDARD
BEGIN:DAYLIGHT
TZOFFSETFROM:-0500
TZOFFSETTO:-0400
TZNAME:EDT
DTSTART:20260308T070000
END:DAYLIGHT
BEGIN:STANDARD
TZOFFSETFROM:-0400
TZOFFSETTO:-0500
TZNAME:EST
DTSTART:20261101T060000
END:STANDARD
END:VTIMEZONE
BEGIN:VEVENT
DTSTART;TZID=America/New_York:20251208T080000
DTEND;TZID=America/New_York:20251208T170000
DTSTAMP:20260423T233419
CREATED:20251208T154326Z
LAST-MODIFIED:20251218T150929Z
UID:945-1765180800-1765213200@7thdistrictfgcnys.org
SUMMARY:Speakers List (As of March 2025)
DESCRIPTION:
URL:https://7thdistrictfgcnys.org/event/speakers-list-as-of-march-2025/
CATEGORIES:Members Council
END:VEVENT
BEGIN:VEVENT
DTSTART;TZID=America/New_York:20251208T080000
DTEND;TZID=America/New_York:20251208T170000
DTSTAMP:20260423T233419
CREATED:20251208T155344Z
LAST-MODIFIED:20251218T145752Z
UID:950-1765180800-1765213200@7thdistrictfgcnys.org
SUMMARY:Speakers List (As of March 2025)
DESCRIPTION:7th-district-speakers-march-2025 (1) (3)
URL:https://7thdistrictfgcnys.org/event/speakers-list-as-of-march-2025-2/
CATEGORIES:Members Council
END:VEVENT
END:VCALENDAR