BEGIN:VCALENDAR
VERSION:2.0
PRODID:-//7th District of the Federated Garden Clubs of NYS, Inc. - ECPv6.15.20//NONSGML v1.0//EN
CALSCALE:GREGORIAN
METHOD:PUBLISH
X-WR-CALNAME:7th District of the Federated Garden Clubs of NYS, Inc.
X-ORIGINAL-URL:https://7thdistrictfgcnys.org
X-WR-CALDESC:Events for 7th District of the Federated Garden Clubs of NYS, Inc.
REFRESH-INTERVAL;VALUE=DURATION:PT1H
X-Robots-Tag:noindex
X-PUBLISHED-TTL:PT1H
BEGIN:VTIMEZONE
TZID:America/New_York
BEGIN:DAYLIGHT
TZOFFSETFROM:-0500
TZOFFSETTO:-0400
TZNAME:EDT
DTSTART:20240310T070000
END:DAYLIGHT
BEGIN:STANDARD
TZOFFSETFROM:-0400
TZOFFSETTO:-0500
TZNAME:EST
DTSTART:20241103T060000
END:STANDARD
BEGIN:DAYLIGHT
TZOFFSETFROM:-0500
TZOFFSETTO:-0400
TZNAME:EDT
DTSTART:20250309T070000
END:DAYLIGHT
BEGIN:STANDARD
TZOFFSETFROM:-0400
TZOFFSETTO:-0500
TZNAME:EST
DTSTART:20251102T060000
END:STANDARD
BEGIN:DAYLIGHT
TZOFFSETFROM:-0500
TZOFFSETTO:-0400
TZNAME:EDT
DTSTART:20260308T070000
END:DAYLIGHT
BEGIN:STANDARD
TZOFFSETFROM:-0400
TZOFFSETTO:-0500
TZNAME:EST
DTSTART:20261101T060000
END:STANDARD
END:VTIMEZONE
BEGIN:VEVENT
DTSTART;TZID=America/New_York:20251201T000000
DTEND;TZID=America/New_York:20251201T235959
DTSTAMP:20260423T171148
CREATED:20250509T130957Z
LAST-MODIFIED:20251023T141900Z
UID:293-1764547200-1764633599@7thdistrictfgcnys.org
SUMMARY:Judges Council Holiday Lunch
DESCRIPTION:Ornament Show ‘n Tell\nSelected charity donation
URL:https://7thdistrictfgcnys.org/event/judges-council-holiday-lunch/
LOCATION:Chatterbox Club\, 25 N. Goodman Street\, Rochester\, NY\, 14607\, United States
CATEGORIES:Judges Council
END:VEVENT
BEGIN:VEVENT
DTSTART;TZID=America/New_York:20250823T130000
DTEND;TZID=America/New_York:20250823T160000
DTSTAMP:20260423T171148
CREATED:20250509T130325Z
LAST-MODIFIED:20250509T130439Z
UID:283-1755954000-1755964800@7thdistrictfgcnys.org
SUMMARY:"Color My World" Horticulture Specialty Flower Show
DESCRIPTION:
URL:https://7thdistrictfgcnys.org/event/7th-district-judges-council-business-meeting-3/
LOCATION:Casey Park\, 6551 Knickerbocker Road\, Ontario\, NY\, 14519\, United States
CATEGORIES:Judges Council
END:VEVENT
BEGIN:VEVENT
DTSTART;TZID=America/New_York:20250804T000000
DTEND;TZID=America/New_York:20250804T235959
DTSTAMP:20260423T171148
CREATED:20250509T130132Z
LAST-MODIFIED:20250509T131023Z
UID:281-1754265600-1754351999@7thdistrictfgcnys.org
SUMMARY:NO JUDGES COUNCIL MEETING
DESCRIPTION:
URL:https://7thdistrictfgcnys.org/event/no-judges-council-meeting/
LOCATION:NY
CATEGORIES:Judges Council
END:VEVENT
BEGIN:VEVENT
DTSTART;TZID=America/New_York:20250707T094500
DTEND;TZID=America/New_York:20250707T094500
DTSTAMP:20260423T171148
CREATED:20250509T130032Z
LAST-MODIFIED:20250509T130039Z
UID:278-1751881500-1751881500@7thdistrictfgcnys.org
SUMMARY:7th District Judges Council Business Meeting
DESCRIPTION:Bring a horticulture collection. \nHosted by: \nLiza Borton\nBarb Veomett \nLunch TBD
URL:https://7thdistrictfgcnys.org/event/7th-district-judges-council-business-meeting-2/
LOCATION:Home of Sarah Dobbs\, 3271 NY Rte. 21 South\, Canandaigua\, NY\, 14424\, United States
CATEGORIES:Judges Council
END:VEVENT
BEGIN:VEVENT
DTSTART;TZID=America/New_York:20250609T094500
DTEND;TZID=America/New_York:20250609T094500
DTSTAMP:20260423T171148
CREATED:20250509T125531Z
LAST-MODIFIED:20250509T125603Z
UID:275-1749462300-1749462300@7thdistrictfgcnys.org
SUMMARY:7th District Judges Council Business Meeting
DESCRIPTION:Bring Peony specimens or design using Peonies. \nHosted by: \nSarah Dobbs\nCandi Smith
URL:https://7thdistrictfgcnys.org/event/7th-district-judges-council-business-meeting/
LOCATION:Ontario Volunteer Emergency Squad\, 6132 Furnace Road\, Ontario\, NY\, 14519\, United States
CATEGORIES:Judges Council
END:VEVENT
END:VCALENDAR