BEGIN:VCALENDAR
VERSION:2.0
PRODID:-//7th District of the Federated Garden Clubs of NYS, Inc. - ECPv6.15.20//NONSGML v1.0//EN
CALSCALE:GREGORIAN
METHOD:PUBLISH
X-ORIGINAL-URL:https://7thdistrictfgcnys.org
X-WR-CALDESC:Events for 7th District of the Federated Garden Clubs of NYS, Inc.
REFRESH-INTERVAL;VALUE=DURATION:PT1H
X-Robots-Tag:noindex
X-PUBLISHED-TTL:PT1H
BEGIN:VTIMEZONE
TZID:America/New_York
BEGIN:DAYLIGHT
TZOFFSETFROM:-0500
TZOFFSETTO:-0400
TZNAME:EDT
DTSTART:20240310T070000
END:DAYLIGHT
BEGIN:STANDARD
TZOFFSETFROM:-0400
TZOFFSETTO:-0500
TZNAME:EST
DTSTART:20241103T060000
END:STANDARD
BEGIN:DAYLIGHT
TZOFFSETFROM:-0500
TZOFFSETTO:-0400
TZNAME:EDT
DTSTART:20250309T070000
END:DAYLIGHT
BEGIN:STANDARD
TZOFFSETFROM:-0400
TZOFFSETTO:-0500
TZNAME:EST
DTSTART:20251102T060000
END:STANDARD
BEGIN:DAYLIGHT
TZOFFSETFROM:-0500
TZOFFSETTO:-0400
TZNAME:EDT
DTSTART:20260308T070000
END:DAYLIGHT
BEGIN:STANDARD
TZOFFSETFROM:-0400
TZOFFSETTO:-0500
TZNAME:EST
DTSTART:20261101T060000
END:STANDARD
BEGIN:DAYLIGHT
TZOFFSETFROM:-0500
TZOFFSETTO:-0400
TZNAME:EDT
DTSTART:20270314T070000
END:DAYLIGHT
BEGIN:STANDARD
TZOFFSETFROM:-0400
TZOFFSETTO:-0500
TZNAME:EST
DTSTART:20271107T060000
END:STANDARD
END:VTIMEZONE
BEGIN:VEVENT
DTSTART;TZID=America/New_York:20250925T080000
DTEND;TZID=America/New_York:20260101T170000
DTSTAMP:20260423T175718
CREATED:20250925T142541Z
LAST-MODIFIED:20250925T142647Z
UID:896-1758787200-1767286800@7thdistrictfgcnys.org
SUMMARY:Youth Contests - Information
DESCRIPTION:Youth Contests 2025-26
URL:https://7thdistrictfgcnys.org/event/youth-contests-information/
END:VEVENT
BEGIN:VEVENT
DTSTART;TZID=America/New_York:20251023T000000
DTEND;TZID=America/New_York:20260201T235959
DTSTAMP:20260423T175718
CREATED:20251023T143530Z
LAST-MODIFIED:20251023T143530Z
UID:903-1761177600-1769990399@7thdistrictfgcnys.org
SUMMARY:Civic Beautification Grants - Information
DESCRIPTION:CIVIC BEAUTIFICATION GRANTS (2)
URL:https://7thdistrictfgcnys.org/event/civic-beautification-grants-information/
END:VEVENT
BEGIN:VEVENT
DTSTART;TZID=America/New_York:20251203T000000
DTEND;TZID=America/New_York:20251203T235959
DTSTAMP:20260423T175718
CREATED:20250516T005612Z
LAST-MODIFIED:20250516T005612Z
UID:623-1764720000-1764806399@7thdistrictfgcnys.org
SUMMARY:Holiday Luncheon
DESCRIPTION:TBD
URL:https://7thdistrictfgcnys.org/event/holiday-luncheon-12-03-25/
LOCATION:Fire on Main Brick Oven Kitchen\, 11 W Main St\, Victor\, NY\, 14564\, United States
CATEGORIES:Board Committee
END:VEVENT
BEGIN:VEVENT
DTSTART;TZID=America/New_York:20251203T093000
DTEND;TZID=America/New_York:20251203T120000
DTSTAMP:20260423T175718
CREATED:20250515T230117Z
LAST-MODIFIED:20250516T004724Z
UID:600-1764754200-1764763200@7thdistrictfgcnys.org
SUMMARY:MCM and Christmas Coffee
DESCRIPTION:Coffee – 9:30 am \nMeeting – 10:00 am
URL:https://7thdistrictfgcnys.org/event/mcm-and-christmas-coffee/
LOCATION:Town of Victor Parks and Recreation Center\, 7891 Lehigh Crossing\, Victor\, NY\, 14564\, United States
CATEGORIES:Members Council
END:VEVENT
END:VCALENDAR